BEGIN:VCALENDAR
VERSION:2.0
PRODID:spatie/icalendar-generator
DESCRIPTION:Events from Scholars DTO Restaurant &amp;amp\; Bar
X-WR-CALDESC:Events from Scholars DTO Restaurant &amp;amp\; Bar
REFRESH-INTERVAL;VALUE=DURATION:PT1440M
X-PUBLISHED-TTL:PT1440M
BEGIN:VTIMEZONE
TZID:Etc/GMT+0
BEGIN:STANDARD
DTSTART:20250829T180000Z
TZOFFSETFROM:+0000
TZOFFSETTO:+0000
END:STANDARD
END:VTIMEZONE
BEGIN:VTIMEZONE
TZID:UTC
BEGIN:STANDARD
DTSTART:20250729T151153Z
TZOFFSETFROM:+0000
TZOFFSETTO:+0000
END:STANDARD
END:VTIMEZONE
BEGIN:VEVENT
UID:141-19
DTSTAMP:20260425T151153Z
SUMMARY:Latin Night &amp;amp\; $2 Taco Tuesdays
LOCATION:
ORGANIZER;CN=admin:MAILTO:lawrenceclay@gmail.com
RRULE:FREQ=WEEKLY;UNTIL=20261231T000000Z
DTSTART;TZID=Etc/GMT+0:20260526T180000
DTEND;TZID=Etc/GMT+0:20260526T190000
X-ALT-DESC;FMTTYPE=TEXT/HTML:
CATEGORIES:General
URL;VALUE=URI:https://scholarsbar.com/mc-events/latin-night-2-taco-tuesdays
 /?mc_id=141
METHOD:PUBLISH
END:VEVENT
END:VCALENDAR