BEGIN:VCALENDAR
VERSION:2.0
PRODID:spatie/icalendar-generator
DESCRIPTION:Events from Scholars DTO Restaurant &amp;amp\; Bar
X-WR-CALDESC:Events from Scholars DTO Restaurant &amp;amp\; Bar
REFRESH-INTERVAL;VALUE=DURATION:PT1440M
X-PUBLISHED-TTL:PT1440M
BEGIN:VTIMEZONE
TZID:Etc/GMT+0
BEGIN:STANDARD
DTSTART:20250809T180000Z
TZOFFSETFROM:+0000
TZOFFSETTO:+0000
END:STANDARD
END:VTIMEZONE
BEGIN:VTIMEZONE
TZID:UTC
BEGIN:STANDARD
DTSTART:20250729T152622Z
TZOFFSETFROM:+0000
TZOFFSETTO:+0000
END:STANDARD
END:VTIMEZONE
BEGIN:VEVENT
UID:178-20
DTSTAMP:20260425T152622Z
SUMMARY:Industry &amp;amp\; $1 Cajun &amp;amp\; Lemon Pepper Wing Night Wednesdays
LOCATION:
ORGANIZER;CN=admin:MAILTO:lawrenceclay@gmail.com
RRULE:FREQ=WEEKLY;UNTIL=20261231T000000Z
DTSTART;TZID=Etc/GMT+0:20260506T180000
DTEND;TZID=Etc/GMT+0:20260506T190000
X-ALT-DESC;FMTTYPE=TEXT/HTML:
CATEGORIES:General
URL;VALUE=URI:https://scholarsbar.com/mc-events/industry-1-cajun-lemon-pepp
 er-wing-night-wednesdays/?mc_id=178
METHOD:PUBLISH
END:VEVENT
END:VCALENDAR