BEGIN:VCALENDAR
VERSION:2.0
PRODID:spatie/icalendar-generator
DESCRIPTION:Events from Scholars DTO Restaurant &amp;amp\; Bar
X-WR-CALDESC:Events from Scholars DTO Restaurant &amp;amp\; Bar
REFRESH-INTERVAL;VALUE=DURATION:PT1440M
X-PUBLISHED-TTL:PT1440M
BEGIN:VTIMEZONE
TZID:Etc/GMT+0
BEGIN:STANDARD
DTSTART:20241202T000000Z
TZOFFSETFROM:+0000
TZOFFSETTO:+0000
END:STANDARD
END:VTIMEZONE
BEGIN:VTIMEZONE
TZID:UTC
BEGIN:STANDARD
DTSTART:20250727T201838Z
TZOFFSETFROM:+0000
TZOFFSETTO:+0000
END:STANDARD
END:VTIMEZONE
BEGIN:VEVENT
UID:18-4
DTSTAMP:20260423T201838Z
SUMMARY:Rollins College Night Silly Week Edition
LOCATION:
ORGANIZER;CN=admin:MAILTO:lawrenceclay@gmail.com
DTSTART;TZID=Etc/GMT+0;VALUE=DATE:20250829
DTEND;TZID=Etc/GMT+0;VALUE=DATE:20250830
X-ALT-DESC;FMTTYPE=TEXT/HTML:[gallery size=\"full\" ids=\"11115\"]
CATEGORIES:General
URL;VALUE=URI:https://scholarsbar.com/mc-events/rollins-college-night-silly
 -week-edition/
METHOD:PUBLISH
END:VEVENT
END:VCALENDAR