BEGIN:VCALENDAR
VERSION:2.0
PRODID:spatie/icalendar-generator
DESCRIPTION:Events from Scholars DTO Restaurant &amp;amp\; Bar
X-WR-CALDESC:Events from Scholars DTO Restaurant &amp;amp\; Bar
REFRESH-INTERVAL;VALUE=DURATION:PT1440M
X-PUBLISHED-TTL:PT1440M
BEGIN:VTIMEZONE
TZID:Etc/GMT+0
BEGIN:STANDARD
DTSTART:20241203T000000Z
TZOFFSETFROM:+0000
TZOFFSETTO:+0000
END:STANDARD
END:VTIMEZONE
BEGIN:VTIMEZONE
TZID:UTC
BEGIN:STANDARD
DTSTART:20250727T220343Z
TZOFFSETFROM:+0000
TZOFFSETTO:+0000
END:STANDARD
END:VTIMEZONE
BEGIN:VEVENT
UID:71-12
DTSTAMP:20260423T220343Z
SUMMARY:Block Party Saturdays
LOCATION:
ORGANIZER;CN=admin:MAILTO:lawrenceclay@gmail.com
RRULE:FREQ=WEEKLY;UNTIL=20251018T000000Z
DTSTART;TZID=Etc/GMT+0;VALUE=DATE:20250830
DTEND;TZID=Etc/GMT+0;VALUE=DATE:20250831
X-ALT-DESC;FMTTYPE=TEXT/HTML:
CATEGORIES:General
URL;VALUE=URI:https://scholarsbar.com/mc-events/block-party-saturdays/?mc_i
 d=71
METHOD:PUBLISH
END:VEVENT
END:VCALENDAR