BEGIN:VCALENDAR
VERSION:2.0
PRODID:spatie/icalendar-generator
DESCRIPTION:Events from Scholars DTO Restaurant &amp;amp\; Bar
X-WR-CALDESC:Events from Scholars DTO Restaurant &amp;amp\; Bar
REFRESH-INTERVAL;VALUE=DURATION:PT1440M
X-PUBLISHED-TTL:PT1440M
BEGIN:VTIMEZONE
TZID:Etc/GMT+0
BEGIN:STANDARD
DTSTART:20250119T000000Z
TZOFFSETFROM:+0000
TZOFFSETTO:+0000
END:STANDARD
END:VTIMEZONE
BEGIN:VTIMEZONE
TZID:UTC
BEGIN:STANDARD
DTSTART:20250727T201719Z
TZOFFSETFROM:+0000
TZOFFSETTO:+0000
END:STANDARD
END:VTIMEZONE
BEGIN:VEVENT
UID:63-11
DTSTAMP:20260423T201719Z
SUMMARY:UCF College Knights
LOCATION:
ORGANIZER;CN=admin:MAILTO:lawrenceclay@gmail.com
RRULE:FREQ=WEEKLY;UNTIL=20251018T000000Z
DTSTART;TZID=Etc/GMT+0;VALUE=DATE:20251016
DTEND;TZID=Etc/GMT+0;VALUE=DATE:20251017
X-ALT-DESC;FMTTYPE=TEXT/HTML:
CATEGORIES:General
URL;VALUE=URI:https://scholarsbar.com/mc-events/ucf-college-knights/?mc_id=
 63
METHOD:PUBLISH
END:VEVENT
END:VCALENDAR