BEGIN:VCALENDAR
VERSION:2.0
PRODID:spatie/icalendar-generator
DESCRIPTION:Events from Scholars DTO Restaurant &amp;amp\; Bar
X-WR-CALDESC:Events from Scholars DTO Restaurant &amp;amp\; Bar
REFRESH-INTERVAL;VALUE=DURATION:PT1440M
X-PUBLISHED-TTL:PT1440M
BEGIN:VTIMEZONE
TZID:Etc/GMT+0
BEGIN:STANDARD
DTSTART:20250120T000000Z
TZOFFSETFROM:+0000
TZOFFSETTO:+0000
END:STANDARD
END:VTIMEZONE
BEGIN:VTIMEZONE
TZID:UTC
BEGIN:STANDARD
DTSTART:20250728T085558Z
TZOFFSETFROM:+0000
TZOFFSETTO:+0000
END:STANDARD
END:VTIMEZONE
BEGIN:VEVENT
UID:85-16
DTSTAMP:20260424T085558Z
SUMMARY:Rollins College Nights
LOCATION:
ORGANIZER;CN=admin:MAILTO:lawrenceclay@gmail.com
RRULE:FREQ=WEEKLY;UNTIL=20251018T000000Z
DTSTART;TZID=Etc/GMT+0;VALUE=DATE:20251017
DTEND;TZID=Etc/GMT+0;VALUE=DATE:20251018
X-ALT-DESC;FMTTYPE=TEXT/HTML:
CATEGORIES:General
URL;VALUE=URI:https://scholarsbar.com/mc-events/rollins-college-nights/?mc_
 id=85
METHOD:PUBLISH
END:VEVENT
END:VCALENDAR